BEGIN:VCALENDAR
VERSION:2.0
PRODID:-//CPTS VEM - ECPv6.15.20//NONSGML v1.0//EN
CALSCALE:GREGORIAN
METHOD:PUBLISH
X-ORIGINAL-URL:https://cpts-vem.fr
X-WR-CALDESC:Évènements pour CPTS VEM
REFRESH-INTERVAL;VALUE=DURATION:PT1H
X-Robots-Tag:noindex
X-PUBLISHED-TTL:PT1H
BEGIN:VTIMEZONE
TZID:Europe/Paris
BEGIN:DAYLIGHT
TZOFFSETFROM:+0100
TZOFFSETTO:+0200
TZNAME:CEST
DTSTART:20250330T010000
END:DAYLIGHT
BEGIN:STANDARD
TZOFFSETFROM:+0200
TZOFFSETTO:+0100
TZNAME:CET
DTSTART:20251026T010000
END:STANDARD
BEGIN:DAYLIGHT
TZOFFSETFROM:+0100
TZOFFSETTO:+0200
TZNAME:CEST
DTSTART:20260329T010000
END:DAYLIGHT
BEGIN:STANDARD
TZOFFSETFROM:+0200
TZOFFSETTO:+0100
TZNAME:CET
DTSTART:20261025T010000
END:STANDARD
BEGIN:DAYLIGHT
TZOFFSETFROM:+0100
TZOFFSETTO:+0200
TZNAME:CEST
DTSTART:20270328T010000
END:DAYLIGHT
BEGIN:STANDARD
TZOFFSETFROM:+0200
TZOFFSETTO:+0100
TZNAME:CET
DTSTART:20271031T010000
END:STANDARD
END:VTIMEZONE
BEGIN:VEVENT
DTSTART;TZID=Europe/Paris:20260305T130000
DTEND;TZID=Europe/Paris:20260305T140000
DTSTAMP:20260422T140919
CREATED:20260217T161707Z
LAST-MODIFIED:20260217T162042Z
UID:5707-1772715600-1772719200@cpts-vem.fr
SUMMARY:Webinaire "Lutte contre l'iatrogénie médicamenteuse "CEPPIM" et dispositif de déprescription"
DESCRIPTION:Webinaire « Lutte contre l’iatrogénie médicamenteuse « CEPPIM » et dispositif de déprescription » \nEn distanciel – sans inscription \n\n\nlien pour participer au webinaire 
URL:https://cpts-vem.fr/event/webinaire-lutte-contre-liatrogenie-medicamenteuse-ceppim-et-dispositif-de-deprescription/
ATTACH;FMTTYPE=image/png:https://cpts-vem.fr/wp-content/uploads/2024/01/photos-site-web-CPTS-VEM.png
END:VEVENT
BEGIN:VEVENT
DTSTART;TZID=Europe/Paris:20260308T080000
DTEND;TZID=Europe/Paris:20260308T170000
DTSTAMP:20260422T140919
CREATED:20260130T152002Z
LAST-MODIFIED:20260130T152002Z
UID:5642-1772956800-1772989200@cpts-vem.fr
SUMMARY:Journée Colon TOUR
DESCRIPTION:📍Base Nature – Fréjus \n🎯 Au programme : \n\nStand Prévention\nMarche / Course\nColon géant
URL:https://cpts-vem.fr/event/journee-colon-tour/
ATTACH;FMTTYPE=image/jpeg:https://cpts-vem.fr/wp-content/uploads/2026/01/colon-tour.jpg
END:VEVENT
BEGIN:VEVENT
DTSTART;TZID=Europe/Paris:20260318T190000
DTEND;TZID=Europe/Paris:20260318T213000
DTSTAMP:20260422T140919
CREATED:20260130T152623Z
LAST-MODIFIED:20260306T141206Z
UID:5645-1773860400-1773869400@cpts-vem.fr
SUMMARY:Conférence - Cancer Colorectal
DESCRIPTION:📌 Théatre le Forum \nAu programme : \n\nConférence\nStand de prévention
URL:https://cpts-vem.fr/event/conference-cancer-colorectale/
ATTACH;FMTTYPE=image/jpeg:https://cpts-vem.fr/wp-content/uploads/2026/01/theatre-le-forum.jpg
END:VEVENT
BEGIN:VEVENT
DTSTART;TZID=Europe/Paris:20260319T120000
DTEND;TZID=Europe/Paris:20260319T163000
DTSTAMP:20260422T140919
CREATED:20260130T162355Z
LAST-MODIFIED:20260306T145845Z
UID:5653-1773921600-1773937800@cpts-vem.fr
SUMMARY:Colloque Personne Agée PS
DESCRIPTION:📌 Best Western Marina St Raphael – Santa Lucia \n🎯 Ordre du Jour \n\n\nOuverture du colloque et présentation de la CPTS VEMDr Pierre Gras \n\n\nÉtat des lieux de la santé mentale sur le territoireMichel Fikojevic –Coordonnateur en Santé Publique CLS Estérel Côte d’Azur Agglomération \n\n\nLa prise en charge gériatrique à l’hôpitalM. Hernandez – Cadre supérieur\, chef de pôle gériatrie et psychiatrie \n\n\nApproche du patient dépressifDr Natrella et Dr Elbeze \n\n\nApproche psychologique et psychosocialeM. Pernet – Psychologue \n\n\nPrésentation de l’EMPSA et de son intervention en villeÉquipe Mobile de Psychiatrie du Sujet Âgé \n\n\nIntervention de Mme Nicolas \n\n\nIntervention du Dr Boyer \n\n\nPrise en charge des pathologies mentales chez les aidantsCRT \n\n\nRetour d’expérience de l’HAD
URL:https://cpts-vem.fr/event/colloque-personne-agee-ps/
ATTACH;FMTTYPE=image/png:https://cpts-vem.fr/wp-content/uploads/2026/01/Capture-decran-2026-01-30-a-17.25.42.png
END:VEVENT
BEGIN:VEVENT
DTSTART;TZID=Europe/Paris:20260324T123000
DTEND;TZID=Europe/Paris:20260324T140000
DTSTAMP:20260422T140919
CREATED:20260217T162325Z
LAST-MODIFIED:20260217T162325Z
UID:5709-1774355400-1774360800@cpts-vem.fr
SUMMARY:Webinaire « Hospitalisation à domicile en périnatalité »
DESCRIPTION:De 12h30 à 14h\nEn distanciel – sur inscription \n\n\nlien d’inscription au webinaire
URL:https://cpts-vem.fr/event/webinaire-hospitalisation-a-domicile-en-perinatalite/
ATTACH;FMTTYPE=image/png:https://cpts-vem.fr/wp-content/uploads/2024/01/photos-site-web-CPTS-VEM.png
END:VEVENT
END:VCALENDAR