BEGIN:VCALENDAR
VERSION:2.0
PRODID:-//CPTS VEM - ECPv6.15.20//NONSGML v1.0//EN
CALSCALE:GREGORIAN
METHOD:PUBLISH
X-ORIGINAL-URL:https://cpts-vem.fr
X-WR-CALDESC:Évènements pour CPTS VEM
REFRESH-INTERVAL;VALUE=DURATION:PT1H
X-Robots-Tag:noindex
X-PUBLISHED-TTL:PT1H
BEGIN:VTIMEZONE
TZID:Europe/Paris
BEGIN:DAYLIGHT
TZOFFSETFROM:+0100
TZOFFSETTO:+0200
TZNAME:CEST
DTSTART:20240331T010000
END:DAYLIGHT
BEGIN:STANDARD
TZOFFSETFROM:+0200
TZOFFSETTO:+0100
TZNAME:CET
DTSTART:20241027T010000
END:STANDARD
BEGIN:DAYLIGHT
TZOFFSETFROM:+0100
TZOFFSETTO:+0200
TZNAME:CEST
DTSTART:20250330T010000
END:DAYLIGHT
BEGIN:STANDARD
TZOFFSETFROM:+0200
TZOFFSETTO:+0100
TZNAME:CET
DTSTART:20251026T010000
END:STANDARD
BEGIN:DAYLIGHT
TZOFFSETFROM:+0100
TZOFFSETTO:+0200
TZNAME:CEST
DTSTART:20260329T010000
END:DAYLIGHT
BEGIN:STANDARD
TZOFFSETFROM:+0200
TZOFFSETTO:+0100
TZNAME:CET
DTSTART:20261025T010000
END:STANDARD
END:VTIMEZONE
BEGIN:VEVENT
DTSTART;TZID=Europe/Paris:20251202T200000
DTEND;TZID=Europe/Paris:20251202T220000
DTSTAMP:20260422T193731
CREATED:20251201T164752Z
LAST-MODIFIED:20251201T164752Z
UID:5438-1764705600-1764712800@cpts-vem.fr
SUMMARY:Réunion accès direct en kinésithérapie
DESCRIPTION:
URL:https://cpts-vem.fr/event/reunion-acces-direct-en-kinesitherapie/
END:VEVENT
BEGIN:VEVENT
DTSTART;TZID=Europe/Paris:20251209T183000
DTEND;TZID=Europe/Paris:20251209T213000
DTSTAMP:20260422T193731
CREATED:20251028T153358Z
LAST-MODIFIED:20251028T153533Z
UID:5157-1765305000-1765315800@cpts-vem.fr
SUMMARY:Lombalgie : comprendre pour mieux agir
DESCRIPTION:Par le Dr Delacroix\, médecin du sport
URL:https://cpts-vem.fr/event/lombalgie-comprendre-pour-mieux-agir/
LOCATION:Théatre le Forum Fréjus\, Fréjus
ATTACH;FMTTYPE=image/png:https://cpts-vem.fr/wp-content/uploads/2025/10/Capture-decran-2025-10-28-a-16.32.47.png
END:VEVENT
BEGIN:VEVENT
DTSTART;TZID=Europe/Paris:20251211T200000
DTEND;TZID=Europe/Paris:20251211T230000
DTSTAMP:20260422T193731
CREATED:20251031T141605Z
LAST-MODIFIED:20251203T132545Z
UID:5214-1765483200-1765494000@cpts-vem.fr
SUMMARY:Le secret médical & déontologie
DESCRIPTION:Thèmes : \n\nsecret médical\,\ndonnées partagées\,\ntransmission de pièces médicales aux ayants droit ou aux compagnies d’assurance\,\nrédaction des certificats de coups et blessures\, notamment concernant la quantification des jours d’ITT. \n\n🎙 Dr CHAIX \, Dr ALLIOT (médecin légiste)\, ainsi que trois conseillers ordinaux du Var\, serons présents pour répondre à l’ensemble de vos questions dans un contexte devenu de plus en plus procédurier 😎
URL:https://cpts-vem.fr/event/le-secret-medical-deontologie/
LOCATION:Pouletisserie – Fréjus\, ZI la Padud
END:VEVENT
END:VCALENDAR