BEGIN:VCALENDAR
VERSION:2.0
PRODID:-//CPTS VEM - ECPv6.15.20//NONSGML v1.0//EN
CALSCALE:GREGORIAN
METHOD:PUBLISH
X-ORIGINAL-URL:https://cpts-vem.fr
X-WR-CALDESC:Évènements pour CPTS VEM
REFRESH-INTERVAL;VALUE=DURATION:PT1H
X-Robots-Tag:noindex
X-PUBLISHED-TTL:PT1H
BEGIN:VTIMEZONE
TZID:Europe/Paris
BEGIN:DAYLIGHT
TZOFFSETFROM:+0100
TZOFFSETTO:+0200
TZNAME:CEST
DTSTART:20240331T010000
END:DAYLIGHT
BEGIN:STANDARD
TZOFFSETFROM:+0200
TZOFFSETTO:+0100
TZNAME:CET
DTSTART:20241027T010000
END:STANDARD
BEGIN:DAYLIGHT
TZOFFSETFROM:+0100
TZOFFSETTO:+0200
TZNAME:CEST
DTSTART:20250330T010000
END:DAYLIGHT
BEGIN:STANDARD
TZOFFSETFROM:+0200
TZOFFSETTO:+0100
TZNAME:CET
DTSTART:20251026T010000
END:STANDARD
BEGIN:DAYLIGHT
TZOFFSETFROM:+0100
TZOFFSETTO:+0200
TZNAME:CEST
DTSTART:20260329T010000
END:DAYLIGHT
BEGIN:STANDARD
TZOFFSETFROM:+0200
TZOFFSETTO:+0100
TZNAME:CET
DTSTART:20261025T010000
END:STANDARD
END:VTIMEZONE
BEGIN:VEVENT
DTSTART;TZID=Europe/Paris:20251106T200000
DTEND;TZID=Europe/Paris:20251106T230000
DTSTAMP:20260422T211345
CREATED:20251028T143353Z
LAST-MODIFIED:20251031T162458Z
UID:5116-1762459200-1762470000@cpts-vem.fr
SUMMARY:Formation Télémédecine
DESCRIPTION:Lister les situation de la télémédecine\nDéfinir le cadre réglementaire\nTester les condition de la MEP d’une solution de télémédecine\n\nformulaire d’inscription : https://forms.gle/mY4odFE6RXuyTdfm8 \nConférence en VISIO
URL:https://cpts-vem.fr/event/formation-telemedecine/
LOCATION:VISIO CONFERENCE
END:VEVENT
BEGIN:VEVENT
DTSTART;TZID=Europe/Paris:20251107T100000
DTEND;TZID=Europe/Paris:20251107T110000
DTSTAMP:20260422T211345
CREATED:20251028T143801Z
LAST-MODIFIED:20251028T155458Z
UID:5119-1762509600-1762513200@cpts-vem.fr
SUMMARY:Réunion création conseil intercommunal en santé mentale (PTSM)
DESCRIPTION:
URL:https://cpts-vem.fr/event/reunion-creation-conseil-intercommunal-en-sante-mentale-ptsm/
LOCATION:Centre hospitalier intercommunal Fréjus – Saint-Raphaël
ATTACH;FMTTYPE=image/webp:https://cpts-vem.fr/wp-content/uploads/2023/02/chifsr.webp
END:VEVENT
BEGIN:VEVENT
DTSTART;TZID=Europe/Paris:20251112T180000
DTEND;TZID=Europe/Paris:20251112T210000
DTSTAMP:20260422T211345
CREATED:20251028T145636Z
LAST-MODIFIED:20251028T150141Z
UID:5124-1762970400-1762981200@cpts-vem.fr
SUMMARY:Movember - Cancer prostate
DESCRIPTION:Soirée d’information sur le cancer de la prostate à l’Esterel Arena !\n\n\nLe mercredi 12 novembre à 18h\, rendez-vous à l’Esterel Arena pour une soirée exceptionnelle autour d’un enjeu majeur de santé publique : le cancer de la prostate\, le plus fréquent chez l’homme.\nComment le prévenir\, le dépister\, le soigner ?\n\n\nUne dizaine de médecins spécialisés du territoire (urologues\, oncologues\, chirurgiens…) répondront à toutes vos questions et partageront leurs connaissances pour mieux comprendre cette maladie.\n\n\n Mercredi 12 novembre 2025 à 18h00\n Esterel Arena – 170 Bd Pierre Delli-Zotti\, Saint-Raphaël\n Entrée gratuite\n Inscription obligatoire ici : https://forms.gle/saxKTuZi9KYmVqAs8
URL:https://cpts-vem.fr/event/movember-cancer-prostate/
LOCATION:Estérel Arena\, 170 Boulevard Pierre Delli-Zotti\, Saint-Raphaël\, 83700
ATTACH;FMTTYPE=image/png:https://cpts-vem.fr/wp-content/uploads/2025/10/MOVEMBER.png
END:VEVENT
BEGIN:VEVENT
DTSTART;TZID=Europe/Paris:20251114T090000
DTEND;TZID=Europe/Paris:20251114T160000
DTSTAMP:20260422T211345
CREATED:20251031T161614Z
LAST-MODIFIED:20251031T161654Z
UID:5227-1763110800-1763136000@cpts-vem.fr
SUMMARY:Journée mondiale du diabète\, dépistage GRATUIT
DESCRIPTION:
URL:https://cpts-vem.fr/event/journee-mondiale-du-diabete-depistage-gratuit/
ATTACH;FMTTYPE=image/png:https://cpts-vem.fr/wp-content/uploads/2025/10/11NOV-2025.png
END:VEVENT
BEGIN:VEVENT
DTSTART;TZID=Europe/Paris:20251115T090000
DTEND;TZID=Europe/Paris:20251115T130000
DTSTAMP:20260422T211345
CREATED:20251028T163817Z
LAST-MODIFIED:20251028T164203Z
UID:5188-1763197200-1763211600@cpts-vem.fr
SUMMARY:Cancer de la prostate
DESCRIPTION:Journée portes ouvertes au centre hospitalier de Fréjus \nRDV gratuit avec nos urologues \nA partir de 50 ans ( 45 ans en cas d’antécédents familiaux ou d’origine afro-antillaise) \n1er cancer masculin avec plus de 50 000 nouveaux cas par an \nDu lundi au vendredi 9h – 16h : 0494558746\nurologie@chi-fsr.fr
URL:https://cpts-vem.fr/event/cancer-de-la-prostate/
LOCATION:Centre hospitalier intercommunal Fréjus – Saint-Raphaël
ATTACH;FMTTYPE=image/jpeg:https://cpts-vem.fr/wp-content/uploads/2025/10/movember.jpg
END:VEVENT
BEGIN:VEVENT
DTSTART;TZID=Europe/Paris:20251117T100000
DTEND;TZID=Europe/Paris:20251117T163000
DTSTAMP:20260422T211345
CREATED:20251028T153051Z
LAST-MODIFIED:20251028T153255Z
UID:5153-1763373600-1763397000@cpts-vem.fr
SUMMARY:Forum bien vivre sa retraite
DESCRIPTION:🌞 Forum Bien Vivre sa Retraite 🌞 \n📅 Lundi 17 novembre | 🕘 9h–17h\n📍 Palais des Congrès de Fréjus \nJournée dédiée aux seniors actifs et à tous ceux qui préparent leur retraite ! \n👉 Au programme :\nConférences\, ateliers\, animations et infos pour bien vivre sa retraite 💬🎨🧘‍♀️\n🎁 Entrée gratuite – Ouvert à tous ! \nInscription et information : Service Santé Vaccination et Prévention\n📞 0483098116\n📩 sante@esterelcotedazur-agglo.fr
URL:https://cpts-vem.fr/event/forum-bien-vivre-sa-retraite/
LOCATION:Théatre le Forum Fréjus\, Fréjus
ATTACH;FMTTYPE=image/jpeg:https://cpts-vem.fr/wp-content/uploads/2025/10/Bien-vivre-sa-retraite-FREJUS-1711-2025.jpg
END:VEVENT
BEGIN:VEVENT
DTSTART;TZID=Europe/Paris:20251118T090000
DTEND;TZID=Europe/Paris:20251118T160000
DTSTAMP:20260422T211345
CREATED:20251028T151541Z
LAST-MODIFIED:20251028T151718Z
UID:5135-1763456400-1763481600@cpts-vem.fr
SUMMARY:Évènement Partenaires Jeunes
DESCRIPTION:
URL:https://cpts-vem.fr/event/evenement-partenaires-jeunes/
LOCATION:Campus RCT Toulon
ATTACH;FMTTYPE=image/png:https://cpts-vem.fr/wp-content/uploads/2025/10/Capture-decran-2025-10-28-a-16.15.27.png
END:VEVENT
BEGIN:VEVENT
DTSTART;TZID=Europe/Paris:20251118T190000
DTEND;TZID=Europe/Paris:20251118T220000
DTSTAMP:20260422T211345
CREATED:20251028T150440Z
LAST-MODIFIED:20251028T151222Z
UID:5131-1763492400-1763503200@cpts-vem.fr
SUMMARY:Protocole d'insuline avec partenariat Ville-Hôpital
DESCRIPTION:Les nouvelles recommandations de la PEC du DT2 sous Basale\nLes nouveaux TTT du DT\nLes adaptation des insulines chez le DT2 sous basale et protocole\n\nPartenariats :  \nABBOTT\nURGO\nASTRA ZENECA
URL:https://cpts-vem.fr/event/protocole-dinsuline-avec-partenariat-ville-hopital/
LOCATION:Golf Roquebrune – Restaurant Loma
ATTACH;FMTTYPE=image/webp:https://cpts-vem.fr/wp-content/uploads/2025/10/LOMA.webp
END:VEVENT
BEGIN:VEVENT
DTSTART;TZID=Europe/Paris:20251120T180000
DTEND;TZID=Europe/Paris:20251120T223000
DTSTAMP:20260422T211345
CREATED:20251028T151804Z
LAST-MODIFIED:20251101T100822Z
UID:5139-1763661600-1763677800@cpts-vem.fr
SUMMARY:CRT - AVC\, de l'urgence à la rééducation
DESCRIPTION:Cette année\, le colloque du CRT portera sur le thème de la prise en charge pluridisciplinaire et coordonnée de l’AVC. \nProgramme :\ncolloque CRT 2025
URL:https://cpts-vem.fr/event/crt-avc/
ATTACH;FMTTYPE=image/png:https://cpts-vem.fr/wp-content/uploads/2025/10/Capture-decran-2025-10-31-a-17.26.37.png
END:VEVENT
BEGIN:VEVENT
DTSTART;TZID=Europe/Paris:20251121T083000
DTEND;TZID=Europe/Paris:20251121T123000
DTSTAMP:20260422T211345
CREATED:20251028T151908Z
LAST-MODIFIED:20251028T151908Z
UID:5141-1763713800-1763728200@cpts-vem.fr
SUMMARY:Comité départemental ALD sans médecin traitant - 4 juin 2025- relevé de décisions
DESCRIPTION:
URL:https://cpts-vem.fr/event/comite-departemental-ald-sans-medecin-traitant-4-juin-2025-releve-de-decisions/
END:VEVENT
BEGIN:VEVENT
DTSTART;TZID=Europe/Paris:20251121T133000
DTEND;TZID=Europe/Paris:20251121T173000
DTSTAMP:20260422T211345
CREATED:20251028T151921Z
LAST-MODIFIED:20251031T135426Z
UID:5143-1763731800-1763746200@cpts-vem.fr
SUMMARY:Congrès des plaies
DESCRIPTION:1ère réunion d’échanges sur la prise en charge des plaies \n\nplaies traumatiques : algorithme du traitement\n\nb.a.-ba du pansement simple \n\n\nintérêt de la contention sur le type de plaie \n\n\nplaies\, exsudat et traitements \n\n\nle pied diabétique \n\n\nnutrition et cicatrisation \n\n\nkyste sacro-coccygien \n\ntraçabilité et continuité des soins\n\nPartenaires :\nCHIFSR \nPrésidents :\nG. Pirovano\nJ.-P. Sannajust \nProgramme de l’évènement : https://cpts-vem.fr/wp-content/uploads/2025/10/Programme-RS-I-FREJUS-2025.pdf
URL:https://cpts-vem.fr/event/1ere-reunion-dechanges-sur-la-prise-en-charge-des-plaies/
LOCATION:Salle Félix Martin\, 186 boulevard Félix Martin\, SAINT-RAPHAËL\, 83700\, France
ATTACH;FMTTYPE=image/png:https://cpts-vem.fr/wp-content/uploads/2025/10/Capture-decran-2025-10-28-a-16.25.40.png
END:VEVENT
BEGIN:VEVENT
DTSTART;TZID=Europe/Paris:20251127T200000
DTEND;TZID=Europe/Paris:20251127T230000
DTSTAMP:20260422T211345
CREATED:20251031T141209Z
LAST-MODIFIED:20251031T141209Z
UID:5212-1764273600-1764284400@cpts-vem.fr
SUMMARY:Les maladies infectieuses émergeantes
DESCRIPTION:Expert Dr. Johan COURJON\, infectiologue au CHU de Nice \nChikungunya\, dengue\, fièvre du nil\, etc. \n 
URL:https://cpts-vem.fr/event/les-maladies-infectieuses-emergeantes/
LOCATION:Pouletisserie – Fréjus\, ZI la Padud
END:VEVENT
END:VCALENDAR