BEGIN:VCALENDAR
VERSION:2.0
PRODID:-//CPTS VEM - ECPv6.15.20//NONSGML v1.0//EN
CALSCALE:GREGORIAN
METHOD:PUBLISH
X-WR-CALNAME:CPTS VEM
X-ORIGINAL-URL:https://cpts-vem.fr
X-WR-CALDESC:Évènements pour CPTS VEM
REFRESH-INTERVAL;VALUE=DURATION:PT1H
X-Robots-Tag:noindex
X-PUBLISHED-TTL:PT1H
BEGIN:VTIMEZONE
TZID:Europe/Paris
BEGIN:DAYLIGHT
TZOFFSETFROM:+0100
TZOFFSETTO:+0200
TZNAME:CEST
DTSTART:20240331T010000
END:DAYLIGHT
BEGIN:STANDARD
TZOFFSETFROM:+0200
TZOFFSETTO:+0100
TZNAME:CET
DTSTART:20241027T010000
END:STANDARD
BEGIN:DAYLIGHT
TZOFFSETFROM:+0100
TZOFFSETTO:+0200
TZNAME:CEST
DTSTART:20250330T010000
END:DAYLIGHT
BEGIN:STANDARD
TZOFFSETFROM:+0200
TZOFFSETTO:+0100
TZNAME:CET
DTSTART:20251026T010000
END:STANDARD
BEGIN:DAYLIGHT
TZOFFSETFROM:+0100
TZOFFSETTO:+0200
TZNAME:CEST
DTSTART:20260329T010000
END:DAYLIGHT
BEGIN:STANDARD
TZOFFSETFROM:+0200
TZOFFSETTO:+0100
TZNAME:CET
DTSTART:20261025T010000
END:STANDARD
END:VTIMEZONE
BEGIN:VEVENT
DTSTART;TZID=Europe/Paris:20251002T183000
DTEND;TZID=Europe/Paris:20251002T203000
DTSTAMP:20260422T225400
CREATED:20251028T165214Z
LAST-MODIFIED:20251028T165446Z
UID:5204-1759429800-1759437000@cpts-vem.fr
SUMMARY:Conférence CHIFSR  - Cancer du sein
DESCRIPTION:
URL:https://cpts-vem.fr/event/conference-chifsr-cancer-du-sein/
LOCATION:Centre hospitalier intercommunal Fréjus – Saint-Raphaël
ATTACH;FMTTYPE=image/png:https://cpts-vem.fr/wp-content/uploads/2025/10/SLIDEweb_octobreROSE-1-1185x630-1.png
END:VEVENT
BEGIN:VEVENT
DTSTART;TZID=Europe/Paris:20251003T090000
DTEND;TZID=Europe/Paris:20251003T170000
DTSTAMP:20260422T225400
CREATED:20251028T164810Z
LAST-MODIFIED:20251028T165151Z
UID:5198-1759482000-1759510800@cpts-vem.fr
SUMMARY:Forum des séniors organisé par le C.C.A.S de la ville de Roquebrune
DESCRIPTION:1ère table ronde : « De la prévention à l’inclusion: surpoids\, cancer\, handicap un même combat »\n2ème table ronde : « Acteurs du domicile: construire ensemble le parcours de soins »\n\nConférence 1 : « Système de santé et environnement »\nConférence 2 : « Ville-hôpital : un lien vital ! »\nConférence 3 : « Soins 2.0: on avance ensemble »\nConférence 4 : «Santé mentale : urgence croissante\, réponse collective»
URL:https://cpts-vem.fr/event/forum-des-seniors-organise-par-le-c-c-a-s-de-la-ville-de-roquebrune/
LOCATION:Roquebrune-sur-Argens
ATTACH;FMTTYPE=image/jpeg:https://cpts-vem.fr/wp-content/uploads/2025/10/IMG_1353-scaled.jpg
END:VEVENT
BEGIN:VEVENT
DTSTART;TZID=Europe/Paris:20251004T093000
DTEND;TZID=Europe/Paris:20251004T170000
DTSTAMP:20260422T225400
CREATED:20251028T161028Z
LAST-MODIFIED:20251028T161107Z
UID:5174-1759570200-1759597200@cpts-vem.fr
SUMMARY:Octobre ROSE - Saint-Raphaël
DESCRIPTION:✨ La CPTS VEM était présente pour Octobre Rose sur la promenade René Coty à Saint-Raphaël 🩷 \nAux côtés de la Ligue contre le cancer de Fréjus-Saint-Raphaël @lccfrejus.straphael et d’autres partenaires engagés\, nous avons partagé avec les visiteurs des moments de sensibilisation\, d’information et de solidarité. 🌸 \n🙏Ensemble\, nous rappelons l’importance du dépistage du cancer du sein : un geste simple\, mais potentiellement salvateur.
URL:https://cpts-vem.fr/event/octobre-rose-saint-raphael/
LOCATION:Promenade René Coty
ATTACH;FMTTYPE=image/jpeg:https://cpts-vem.fr/wp-content/uploads/2025/10/IMG_1424-scaled.jpg
END:VEVENT
BEGIN:VEVENT
DTSTART;TZID=Europe/Paris:20251009T090000
DTEND;TZID=Europe/Paris:20251009T170000
DTSTAMP:20260422T225400
CREATED:20251028T164651Z
LAST-MODIFIED:20251028T164741Z
UID:5195-1760000400-1760029200@cpts-vem.fr
SUMMARY:URPS ML PACA / Le Tour de France de la FCPTS - journée régionale
DESCRIPTION:
URL:https://cpts-vem.fr/event/urps-ml-paca-le-tour-de-france-de-la-fcpts-journee-regionale/
LOCATION:Aix-en-provence
END:VEVENT
BEGIN:VEVENT
DTSTART;TZID=Europe/Paris:20251009T190000
DTEND;TZID=Europe/Paris:20251009T220000
DTSTAMP:20260422T225400
CREATED:20251028T164607Z
LAST-MODIFIED:20251028T164607Z
UID:5193-1760036400-1760047200@cpts-vem.fr
SUMMARY:Soirée des rencontres de périnatalité
DESCRIPTION:Vécu du premier examen gynécologique et facteurs pouvant l’influencer – Mémoire sage-femme Mme Lena PORTA CHIFSR\nFilière endométriose : le parcours de soins gradué – Michèle MARCOT\, coordinatrice EndoSud PACA – intervention en visio\n\nQuestions/échanges\n\n\nProtocole indications de déclenchement du travail CHIFSR – Dr CHEMIMA – gynécologue obstétricien CHIFSR\nAllaitement maternel et compléments de lait artificiel – Dr NOUYRIGAT – pédiatre chef de service néonatologie CHIFSR\nEnjeux de prévention lors de l’arrivée à domicile postnatale – Marine VITTETA puéricultrice réseau Méditerranée\n\nQuestions/échanges
URL:https://cpts-vem.fr/event/soiree-des-rencontres-de-perinatalite/
END:VEVENT
BEGIN:VEVENT
DTSTART;TZID=Europe/Paris:20251010T090000
DTEND;TZID=Europe/Paris:20251010T163000
DTSTAMP:20260422T225400
CREATED:20251028T164339Z
LAST-MODIFIED:20251028T164419Z
UID:5191-1760086800-1760113800@cpts-vem.fr
SUMMARY:Journée exercice coordonné CPAM Toulon
DESCRIPTION:
URL:https://cpts-vem.fr/event/journee-exercice-coordonne-cpam-toulon/
LOCATION:Campus RCT Toulon
ATTACH;FMTTYPE=image/png:https://cpts-vem.fr/wp-content/uploads/2025/10/Capture-decran-2025-10-28-a-16.15.27.png
END:VEVENT
BEGIN:VEVENT
DTSTART;TZID=Europe/Paris:20251011T080000
DTEND;TZID=Europe/Paris:20251011T170000
DTSTAMP:20260422T225400
CREATED:20251011T152302Z
LAST-MODIFIED:20251028T165652Z
UID:5183-1760169600-1760202000@cpts-vem.fr
SUMMARY:Roc d'Azur - dépistages diabète et hypertension
DESCRIPTION:🚴‍♂️ La CPTS VEM présente au @rocdazur 2025 !\nNotre équipe a proposé des dépistages diabète et hypertension gratuits 🩺💉 \nUn grand merci à tous les participants venus se faire tester\, échanger et s’informer sur leur santé 💪\nEt bravo aux sportifs pour leur énergie et leur bonne humeur ! 👏
URL:https://cpts-vem.fr/event/roc-dazur/
LOCATION:Roc d’Azur
ATTACH;FMTTYPE=image/jpeg:https://cpts-vem.fr/wp-content/uploads/2025/10/IMG_1516-scaled.jpg
END:VEVENT
BEGIN:VEVENT
DTSTART;TZID=Europe/Paris:20251014T093000
DTEND;TZID=Europe/Paris:20251014T173000
DTSTAMP:20260422T225400
CREATED:20251028T161917Z
LAST-MODIFIED:20251028T162156Z
UID:5180-1760434200-1760463000@cpts-vem.fr
SUMMARY:Congrès Silver
DESCRIPTION:🌸 Forum des Seniors – Palais des Congrès de Saint-Raphaël 🌸 \nLa @cptsvem était présente au forum des seniors !\nUne belle journée de prévention et d’échanges autour du bien vieillir 💬🩺 \nAu programme : simulation 3d\, parcours d’agilité\, ateliers bien-être\, prévention santé\, et plein de moments de partage avec nos partenaires 🤝 \nUn grand merci à la @villesaintraphael\, au chifsr @hopital_frejus \, à esterel côte d’azur agglo\, au ccas\, et à tous les acteurs locaux mobilisés pour cette journée dédiée aux seniors 💙 \n  \n– Distribution questionnaire FINDRISK + EPOF pour autoévaluation\n– Intervention : Dr KIAVUE cardi + Marcandella audition + La Mut’ piece de théatre + CCAS Théatre intéractif « vie des aidants »
URL:https://cpts-vem.fr/event/congres-silver/
LOCATION:Palais des congrès\, Saint-Raphaël\, 83700\, France
ATTACH;FMTTYPE=image/jpeg:https://cpts-vem.fr/wp-content/uploads/2025/10/CPTS-1-scaled.jpg
END:VEVENT
BEGIN:VEVENT
DTSTART;TZID=Europe/Paris:20251018T093000
DTEND;TZID=Europe/Paris:20251018T170000
DTSTAMP:20260422T225400
CREATED:20251028T160744Z
LAST-MODIFIED:20251028T160744Z
UID:5170-1760779800-1760806800@cpts-vem.fr
SUMMARY:Octobre ROSE - Fréjus
DESCRIPTION:✨ La CPTS VEM présente pour Octobre Rose sur la place Clémenceau à Fréjus 🩷 \nAux côtés de la Ligue contre le cancer de Fréjus-Saint-Raphaël @lccfrejus.straphael et d’autres partenaires engagés\, nous avons partagé avec les visiteurs des moments de sensibilisation\, d’information et de solidarité. 🌸 \n🙏Ensemble\, nous rappelons l’importance du dépistage du cancer du sein : un geste simple\, mais potentiellement salvateur.
URL:https://cpts-vem.fr/event/octobre-rose-frejus/
LOCATION:Place Clémenceau
ATTACH;FMTTYPE=image/jpeg:https://cpts-vem.fr/wp-content/uploads/2025/10/IMG_1415-scaled.jpg
END:VEVENT
END:VCALENDAR