BEGIN:VCALENDAR
VERSION:2.0
PRODID:-//CPTS VEM - ECPv6.15.20//NONSGML v1.0//EN
CALSCALE:GREGORIAN
METHOD:PUBLISH
X-ORIGINAL-URL:https://cpts-vem.fr
X-WR-CALDESC:Évènements pour CPTS VEM
REFRESH-INTERVAL;VALUE=DURATION:PT1H
X-Robots-Tag:noindex
X-PUBLISHED-TTL:PT1H
BEGIN:VTIMEZONE
TZID:Europe/Paris
BEGIN:DAYLIGHT
TZOFFSETFROM:+0100
TZOFFSETTO:+0200
TZNAME:CEST
DTSTART:20240331T010000
END:DAYLIGHT
BEGIN:STANDARD
TZOFFSETFROM:+0200
TZOFFSETTO:+0100
TZNAME:CET
DTSTART:20241027T010000
END:STANDARD
BEGIN:DAYLIGHT
TZOFFSETFROM:+0100
TZOFFSETTO:+0200
TZNAME:CEST
DTSTART:20250330T010000
END:DAYLIGHT
BEGIN:STANDARD
TZOFFSETFROM:+0200
TZOFFSETTO:+0100
TZNAME:CET
DTSTART:20251026T010000
END:STANDARD
BEGIN:DAYLIGHT
TZOFFSETFROM:+0100
TZOFFSETTO:+0200
TZNAME:CEST
DTSTART:20260329T010000
END:DAYLIGHT
BEGIN:STANDARD
TZOFFSETFROM:+0200
TZOFFSETTO:+0100
TZNAME:CET
DTSTART:20261025T010000
END:STANDARD
END:VTIMEZONE
BEGIN:VEVENT
DTSTART;TZID=Europe/Paris:20250821T163000
DTEND;TZID=Europe/Paris:20250821T220000
DTSTAMP:20260423T021614
CREATED:20250909T143159Z
LAST-MODIFIED:20250909T143159Z
UID:4897-1755793800-1755813600@cpts-vem.fr
SUMMARY:S-XPRESS (Mini festival) - prévention addictions
DESCRIPTION:Actions : \n\nPrévention des addictions\nPrévention alcool ciblé : test\nPrévention protège ta peau\nPrévention audition : bouchons d’oreilles + casque antibruit\nFlyer éventail & flyer triangle simple
URL:https://cpts-vem.fr/event/s-xpress-mini-festival-prevention-addictions/
LOCATION:South Wake Park\, Puget-sur-Argens\, 83480\, France
ATTACH;FMTTYPE=image/png:https://cpts-vem.fr/wp-content/uploads/2025/09/Capture-decran-2025-09-09-a-16.27.18.png
END:VEVENT
END:VCALENDAR