BEGIN:VCALENDAR
VERSION:2.0
PRODID:-//CPTS VEM - ECPv6.15.20//NONSGML v1.0//EN
CALSCALE:GREGORIAN
METHOD:PUBLISH
X-ORIGINAL-URL:https://cpts-vem.fr
X-WR-CALDESC:Évènements pour CPTS VEM
REFRESH-INTERVAL;VALUE=DURATION:PT1H
X-Robots-Tag:noindex
X-PUBLISHED-TTL:PT1H
BEGIN:VTIMEZONE
TZID:Europe/Paris
BEGIN:DAYLIGHT
TZOFFSETFROM:+0100
TZOFFSETTO:+0200
TZNAME:CEST
DTSTART:20240331T010000
END:DAYLIGHT
BEGIN:STANDARD
TZOFFSETFROM:+0200
TZOFFSETTO:+0100
TZNAME:CET
DTSTART:20241027T010000
END:STANDARD
BEGIN:DAYLIGHT
TZOFFSETFROM:+0100
TZOFFSETTO:+0200
TZNAME:CEST
DTSTART:20250330T010000
END:DAYLIGHT
BEGIN:STANDARD
TZOFFSETFROM:+0200
TZOFFSETTO:+0100
TZNAME:CET
DTSTART:20251026T010000
END:STANDARD
BEGIN:DAYLIGHT
TZOFFSETFROM:+0100
TZOFFSETTO:+0200
TZNAME:CEST
DTSTART:20260329T010000
END:DAYLIGHT
BEGIN:STANDARD
TZOFFSETFROM:+0200
TZOFFSETTO:+0100
TZNAME:CET
DTSTART:20261025T010000
END:STANDARD
END:VTIMEZONE
BEGIN:VEVENT
DTSTART;TZID=Europe/Paris:20250703T200000
DTEND;TZID=Europe/Paris:20250703T220000
DTSTAMP:20260423T040131
CREATED:20250909T141052Z
LAST-MODIFIED:20250909T141052Z
UID:4894-1751572800-1751580000@cpts-vem.fr
SUMMARY:Soirée des professionnels de santé de Roquebrune / Puget-sur-Argens
DESCRIPTION:
URL:https://cpts-vem.fr/event/soiree-des-professionnels-de-sante-de-roquebrune-puget-sur-argens/
LOCATION:Ilot bar\, Roquebrune-sur-Argens\, 83520\, France
ATTACH;FMTTYPE=image/jpeg:https://cpts-vem.fr/wp-content/uploads/2025/06/IMG_0088-scaled.jpg
ORGANIZER;CN="CPTS VEM":MAILTO:contact.cptsvem@gmail.com
END:VEVENT
END:VCALENDAR