BEGIN:VCALENDAR
VERSION:2.0
PRODID:-//CPTS VEM - ECPv6.15.20//NONSGML v1.0//EN
CALSCALE:GREGORIAN
METHOD:PUBLISH
X-WR-CALNAME:CPTS VEM
X-ORIGINAL-URL:https://cpts-vem.fr
X-WR-CALDESC:Évènements pour CPTS VEM
REFRESH-INTERVAL;VALUE=DURATION:PT1H
X-Robots-Tag:noindex
X-PUBLISHED-TTL:PT1H
BEGIN:VTIMEZONE
TZID:Europe/Paris
BEGIN:DAYLIGHT
TZOFFSETFROM:+0100
TZOFFSETTO:+0200
TZNAME:CEST
DTSTART:20250330T010000
END:DAYLIGHT
BEGIN:STANDARD
TZOFFSETFROM:+0200
TZOFFSETTO:+0100
TZNAME:CET
DTSTART:20251026T010000
END:STANDARD
BEGIN:DAYLIGHT
TZOFFSETFROM:+0100
TZOFFSETTO:+0200
TZNAME:CEST
DTSTART:20260329T010000
END:DAYLIGHT
BEGIN:STANDARD
TZOFFSETFROM:+0200
TZOFFSETTO:+0100
TZNAME:CET
DTSTART:20261025T010000
END:STANDARD
BEGIN:DAYLIGHT
TZOFFSETFROM:+0100
TZOFFSETTO:+0200
TZNAME:CEST
DTSTART:20270328T010000
END:DAYLIGHT
BEGIN:STANDARD
TZOFFSETFROM:+0200
TZOFFSETTO:+0100
TZNAME:CET
DTSTART:20271031T010000
END:STANDARD
END:VTIMEZONE
BEGIN:VEVENT
DTSTART;VALUE=DATE:20260708
DTEND;VALUE=DATE:20260709
DTSTAMP:20260422T110648
CREATED:20260324T155244Z
LAST-MODIFIED:20260324T155244Z
UID:5746-1783468800-1783555199@cpts-vem.fr
SUMMARY:Journée "Protège ta peau" Cavem / LCC
DESCRIPTION:– Stand de prévention\n– Formation / sensibilisation\n– Distribution de crème solaire\n– Distribution chapeaux / casquettes
URL:https://cpts-vem.fr/event/journee-protege-ta-peau-cavem-lcc/
LOCATION:Plage du Veillat
ATTACH;FMTTYPE=image/jpeg:https://cpts-vem.fr/wp-content/uploads/2026/03/plage-du-veillat.jpg
END:VEVENT
BEGIN:VEVENT
DTSTART;VALUE=DATE:20260715
DTEND;VALUE=DATE:20260716
DTSTAMP:20260422T110648
CREATED:20260324T155615Z
LAST-MODIFIED:20260324T155737Z
UID:5750-1784073600-1784159999@cpts-vem.fr
SUMMARY:Journée "Protège ta peau" Cavem / LCC
DESCRIPTION:– Stand de prévention\n– Formation / sensibilisation\n– Distribution de crème solaire\n– Distribution chapeaux / casquettes
URL:https://cpts-vem.fr/event/journee-protege-ta-peau-cavem-lcc-2/
LOCATION:Base Nature de Fréjus\, Fréjus\, 83600\, France
ATTACH;FMTTYPE=image/jpeg:https://cpts-vem.fr/wp-content/uploads/2026/03/base-nature.jpeg
END:VEVENT
BEGIN:VEVENT
DTSTART;VALUE=DATE:20261003
DTEND;VALUE=DATE:20261004
DTSTAMP:20260422T110648
CREATED:20260324T155903Z
LAST-MODIFIED:20260324T155903Z
UID:5753-1790985600-1791071999@cpts-vem.fr
SUMMARY:Octobre Rose - Saint-Raphaël
DESCRIPTION:– Stand de prévention\n– Formation / sensibilisation
URL:https://cpts-vem.fr/event/octobre-rose-saint-raphael-2/
ATTACH;FMTTYPE=image/jpeg:https://cpts-vem.fr/wp-content/uploads/2025/10/IMG_1424-scaled.jpg
END:VEVENT
BEGIN:VEVENT
DTSTART;VALUE=DATE:20261017
DTEND;VALUE=DATE:20261018
DTSTAMP:20260422T110648
CREATED:20260324T160018Z
LAST-MODIFIED:20260324T160018Z
UID:5755-1792195200-1792281599@cpts-vem.fr
SUMMARY:Octobre Rose - Fréjus
DESCRIPTION:– Stand de prévention\n– Formation / sensibilisation
URL:https://cpts-vem.fr/event/octobre-rose-frejus-2/
ATTACH;FMTTYPE=image/jpeg:https://cpts-vem.fr/wp-content/uploads/2025/10/IMG_1415-scaled.jpg
END:VEVENT
BEGIN:VEVENT
DTSTART;TZID=Europe/Paris:20261110T080000
DTEND;TZID=Europe/Paris:20261110T170000
DTSTAMP:20260422T110648
CREATED:20260324T160127Z
LAST-MODIFIED:20260324T160127Z
UID:5757-1794297600-1794330000@cpts-vem.fr
SUMMARY:Conférence Cancer Prostate
DESCRIPTION:– Conférence\n– Stand de prévention
URL:https://cpts-vem.fr/event/conference-cancer-prostate/
LOCATION:Théatre le Forum Fréjus\, Fréjus
ATTACH;FMTTYPE=image/jpeg:https://cpts-vem.fr/wp-content/uploads/2026/01/theatre-le-forum.jpg
END:VEVENT
END:VCALENDAR